BEGIN:VCALENDAR
PRODID:-//AT Content Types//AT Event//EN
VERSION:1.0
BEGIN:VEVENT
DTSTART:20100404T220000Z
DTEND:20100404T220000Z
DCREATED:20100118T133521Z
UID:ATEvent-8dd3f3eac39db41854581895b846e7d5
SEQUENCE:0
LAST-MODIFIED:20100119T114256Z
SUMMARY:Eine Woche in Taizé - Heilsame Alltagsunterbrechung
DESCRIPTION:Fahrt für Jugendliche und Erwachsene nach Taizé
PRIORITY:3
TRANSP:0
END:VEVENT
END:VCALENDAR
