BEGIN:VCALENDAR
PRODID:-//AT Content Types//AT Event//EN
VERSION:2.0
METHOD:PUBLISH
BEGIN:VEVENT
DTSTAMP:20260420T190059Z
CREATED:20110221T082233Z
UID:ATEvent-071d37dbd40974a238a1c0cda6c88ceb
LAST-MODIFIED:20110221T082238Z
SUMMARY:Musik und Texte zu Ostern
DTSTART:20110425T150000Z
DTEND:20110425T163000Z
LOCATION:Christuskirche\, Recklinghausen\, Limperstr. 13
CATEGORIES:Gottesdienst, Konzert
CLASS:PUBLIC
END:VEVENT
END:VCALENDAR
